Workbook

Sheet 2026年度審査結果通知一覧
A1: 受付日 | B1: 受付番号 | C1: 申請 種類 | D1: 診療科 | E1: 統括管理者 | F1: 課題名 | G1: 委員会 審査日 | H1: 判定 | I1: 通知日 | K1: その他メモ
B2: N20254001-1再 | C2: 新規 （再審査） | D2: ― | E2: 西日本がん研究機構（WJOG） | F2: 抗PD-1抗体薬未投与の切除不能進行再発胃腺癌もしくは食道胃接合部腺癌に対する3次治療以降のFTD/TPI + Nivolumab併用療法の単群第II相試験（ANTIEqUE Study：WJOG21525G） | G2: 46139 | H2: 継続審査（簡便な審査） | I2: 46142 | J2: =IFERROR(VLOOKUP(LEFT($C2, 2), [1]マスタ!$A$1:$B$10, 2, FALSE), "") -> 1
B3: N20230001-6再 | C3: 変更 （再審査） | D3: 精神・神経科学 | E3: 中島 振一郎 | F3: アルコール使用障害に対するtheta burst stimulationによる次世代ニューロモデュレーション治療法の開発とその治療メカニズムの解明 | G3: 46139 | H3: 承認 | I3: 46142 | J3: =IFERROR(VLOOKUP(LEFT($C3, 2), [1]マスタ!$A$1:$B$10, 2, FALSE), "") -> 2
B4: N20170237-31再 | C4: 変更 （再審査） | D4: 内科学（神経） | E4: 伊東 大介 | F4: 認知症の病態メカニズム解明と創薬標的創出のための臨床研究 | G4: 46139 | H4: 継続審査（再審査） | I4: 46142 | J4: =IFERROR(VLOOKUP(LEFT($C4, 2), [1]マスタ!$A$1:$B$10, 2, FALSE), "") -> 2
B5: N20240005-3 | C5: 変更 （初回） | D5: 眼科学 | E5: 伴 紀充 | F5: 網膜色素変性に対するバイオレットライトの安全性に関する臨床研究 | G5: 46139 | H5: 承認 | I5: 46142 | J5: =IFERROR(VLOOKUP(LEFT($C5, 2), [1]マスタ!$A$1:$B$10, 2, FALSE), "") -> 2
B6: Ｎ20150317-17 | C6: 変更 （初回） | D6: 医学部腫瘍センター | E6: 平田 賢郎 | F6: 高齢者臨床病期IB-Ⅲ 食道癌に対するPaclitaxelと放射線同時併用療法(PTX-RT)の第Ⅰ/Ⅱ相試験 | G6: 46139 | H6: 承認 | I6: 46142 | J6: =IFERROR(VLOOKUP(LEFT($C6, 2), [1]マスタ!$A$1:$B$10, 2, FALSE), "") -> 2
B7: N20188001-25 | C7: 変更 （初回） | D7: 東海大学 | E7: 伊苅 裕二 | F7: ST上昇型急性心筋梗塞に対するエキシマレーザー冠動脈形成術が心筋サルべージに与える影響 | G7: 46139 | H7: 承認 | I7: 46142 | J7: =IFERROR(VLOOKUP(LEFT($C7, 2), [1]マスタ!$A$1:$B$10, 2, FALSE), "") -> 2
B8: N20220005-14 | C8: 変更 （初回） | D8: ― | E8: 一般社団法人 OCEAN-SHD研究会 | F8: 経カテーテル大動脈弁留置術施行患者における術後アスピリン単独投与に比較した場合の抗血栓薬非投与の非劣性を検証する無作為化比較試験 | G8: 46139 | H8: 承認 | I8: 46142 | J8: =IFERROR(VLOOKUP(LEFT($C8, 2), [1]マスタ!$A$1:$B$10, 2, FALSE), "") -> 2
B9: N20230002-16 | C9: 変更 （初回） | D9: 内科学（リウマチ・膠原病） | E9: 金子 祐子 | F9: メトトレキサートの効果が不十分な関節リウマチ患者におけるフィルゴチニブ追加とフィルゴチニブへの切替の有効性と安全性に関する多施設共同ランダム化比較試験（FAITHFUL Study） | G9: 46139 | H9: 承認 | I9: 46142 | J9: =IFERROR(VLOOKUP(LEFT($C9, 2), [1]マスタ!$A$1:$B$10, 2, FALSE), "") -> 2
B10: N20240002-8 | C10: 変更 （初回） | D10: 救急医学 | E10: 山元 良 | F10: 敗血症治療評価に関するアダプティブプラットフォーム試験 | G10: 46139 | H10: 継続審査（再審査） | I10: 46142 | J10: =IFERROR(VLOOKUP(LEFT($C10, 2), [1]マスタ!$A$1:$B$10, 2, FALSE), "") -> 2
B11: N20190007-26 | C11: 変更 （初回） | D11: 外科学（一般・消化器） | E11: 松田 諭 | F11: 切除可能進行食道扁平上皮癌 [cT1N1-3M0-1(M1は鎖骨上リンパ節転移陽性によるM1のみ許容), cT2-3N0-3M0-1 (M1は鎖骨上リンパ節転移陽性によるM1のみ許容)] を対象とした5-FU+ロイコボリン＋オキサリプラチン＋ドセタキセル（FOLFOX+DTX）の併用療法による術前補助化学療法の第II相試験 | G11: 46139 | H11: 承認 | I11: 46142 | J11: =IFERROR(VLOOKUP(LEFT($C11, 2), [1]マスタ!$A$1:$B$10, 2, FALSE), "") -> 2
B12: N20230001_定期260303 | C12: 定期報告 | D12: 精神・神経科学 | E12: 中島 振一郎 | F12: アルコール使用障害に対するtheta burst stimulationによる 次世代ニューロモデュレーション治療法の開発とその治療メカニズムの解明 | G12: 46139 | H12: 承認 | I12: 46142 | J12: =IFERROR(VLOOKUP(LEFT($C12, 2), [1]マスタ!$A$1:$B$10, 2, FALSE), "") -> 3
B13: Ｎ20188001_定期260318 | C13: 定期報告 | D13: 東海大学 | E13: 伊苅 裕二 | F13: ST上昇型急性心筋梗塞に対するエキシマレーザー冠動脈形成術が心筋サルべージに与える影響 | G13: 46139 | H13: 承認 | I13: 46142 | J13: =IFERROR(VLOOKUP(LEFT($C13, 2), [1]マスタ!$A$1:$B$10, 2, FALSE), "") -> 3
... B34: N20160071_終了260407 | C34: 終了通知 | D34: 内科学（リウマチ・膠原病） | E34: 菊池 潤 | F34: ループス腎炎に対するタクロリムスとミコフェノール酸モフェチルの有効性と安全性に関する研究 | G34: 46167 | H34: 継続審査（再審査） | I34: 46170 | J34: =IFERROR(VLOOKUP(LEFT($C34, 2), [1]マスタ!$A$1:$B$10, 2, FALSE), "") -> 6
B35: N20230006-20再 | C35: 変更 （初回） | D35: 内科学（呼吸器） | E35: 加畑 宏樹 | F35: 生物学的製剤投与中の成人重症喘息患者を対象としたオマリズマブへの切り替え効果検証試験 | G35: 46182 | H35: 承認 （簡便な審査） | I35: 46183 | J35: =IFERROR(VLOOKUP(LEFT($C36, 2), [1]マスタ!$A$1:$B$10, 2, FALSE), "") -> 2
B36: N20170237-31再3 | C36: 変更 （再審査） | D36: 内科学（神経） | E36: 伊東 大介 | F36: 認知症の病態メカニズム解明と創薬標的創出のための臨床研究 | G36: 46188 | H36: 承認 （簡便な審査） | I36: 46188 | J36: =IFERROR(VLOOKUP(LEFT($C35, 2), [1]マスタ!$A$1:$B$10, 2, FALSE), "") -> 2
B37: N20260001-1再 | C37: 新規 （再審査） | D37: 眼科学 | E37: 根岸 一乃 | F37: 両眼加齢性白内障における回折型三焦点眼内レンズ挿入後の遠・中・近視機能の探索的検討（VISION-3 Pilot Study） | G37: 46202 | H37: 継続審査（再審査） | I37: 46211 | J37: =IFERROR(VLOOKUP(LEFT($C37, 2), [1]マスタ!$A$1:$B$10, 2, FALSE), "") -> 1
B38: N20150317-18 | C38: 変更 （初回） | D38: 医学部腫瘍センター | E38: 平田 賢郎 | F38: 高齢者臨床病期IB-Ⅲ 食道癌に対するPaclitaxelと放射線同時併用療法(PTX-RT)の第Ⅰ/Ⅱ相試験 | G38: 46202 | H38: 承認 | I38: 46203 | J38: =IFERROR(VLOOKUP(LEFT($C38, 2), [1]マスタ!$A$1:$B$10, 2, FALSE), "") -> 2
B39: N20194001-43 | C39: 変更 （初回） | D39: 産婦人科学（婦人科） | E39: 山上 亘 | F39: 子宮体癌／子宮内膜異型増殖症に対する妊孕性温存治療後の子宮内再発に対する反復高用量黄体ホルモン療法に関する第 II 相試験 | G39: 46202 | H39: 承認 | I39: 46203 | J39: =IFERROR(VLOOKUP(LEFT($C39, 2), [1]マスタ!$A$1:$B$10, 2, FALSE), "") -> 2
B40: N20180008-22 | C40: 変更 （初回） | D40: 外科学（小児） | E40: 藤野 明浩 | F40: 国際共同多施設での胚細胞腫瘍低リスク患者に対する積極的サーベイランス第3相試験並びに標準リスクの小児及び成人患者に対するカルボプラチンとシスプラチンのランダム化比較試験；AGCT1531 | G40: 46202 | H40: 承認 | I40: 46203 | J40: =IFERROR(VLOOKUP(LEFT($C40, 2), [1]マスタ!$A$1:$B$10, 2, FALSE), "") -> 2
B41: N20160071-8 | C41: 変更 （初回） | D41: 内科学（リウマチ・膠原病） | E41: 菊池 潤 | F41: ループス腎炎に対するタクロリムスとミコフェノール酸モフェチルの有効性と安全性に関する研究 | G41: 46202 | H41: 承認 | I41: 46203 | J41: =IFERROR(VLOOKUP(LEFT($C41, 2), [1]マスタ!$A$1:$B$10, 2, FALSE), "") -> 2
B42: N20220009-10 | C42: 変更 （初回） | D42: 外科学（呼吸器） | E42: 朝倉 啓介 | F42: 胸部悪性腫瘍に対する経皮的凍結融解壊死療法の有効性・安全性に関する研究 | G42: 46202 | H42: 承認 | I42: 46203 | J42: =IFERROR(VLOOKUP(LEFT($C42, 2), [1]マスタ!$A$1:$B$10, 2, FALSE), "") -> 2
B43: N20170073_定期260427 | C43: 定期報告 | D43: 放射線科学（診断） | E43: 陣崎 雅弘 | F43: 血管壁の18F-NaFおよび18F-FDG集積を指標とした大動脈瘤患者の予後予測に関する臨床研究 | G43: 46202 | H43: 承認 | I43: 46203 | J43: =IFERROR(VLOOKUP(LEFT($C43, 2), [1]マスタ!$A$1:$B$10, 2, FALSE), "") -> 3
B44: N20150317_定期260430 | C44: 定期報告 | D44: 医学部腫瘍センター | E44: 平田 賢郎 | F44: 高齢者臨床病期IB-Ⅲ 食道癌に対するPaclitaxelと放射線同時併用療法(PTX-RT)の第Ⅰ/Ⅱ相試験 | G44: 46202 | H44: 承認 | I44: 46203 | J44: =IFERROR(VLOOKUP(LEFT($C44, 2), [1]マスタ!$A$1:$B$10, 2, FALSE), "") -> 3
B45: N20220009_定期260510 | C45: 定期報告 | D45: 外科学（呼吸器） | E45: 朝倉 啓介 | F45: 胸部悪性腫瘍に対する経皮的凍結融解壊死療法の有効性・安全性に関する研究 | G45: 46202 | H45: 承認 | I45: 46203 | J45: =IFERROR(VLOOKUP(LEFT($C45, 2), [1]マスタ!$A$1:$B$10, 2, FALSE), "") -> 3
B46: N20180008_定期260514 | C46: 定期報告 | D46: 外科学（小児） | E46: 藤野 明浩 | F46: 国際共同多施設での胚細胞腫瘍低リスク患者に対する積極的サーベイランス第3相試験並びに標準リスクの小児及び成人患者に対するカルボプラチンとシスプラチンのランダム化比較試験；AGCT1531 | G46: 46202 | H46: 承認 | I46: 46203 | J46: =IFERROR(VLOOKUP(LEFT($C46, 2), [1]マスタ!$A$1:$B$10, 2, FALSE), "") -> 3
B47: N20120168_定期260522 | C47: 定期報告 | D47: 外科学（一般・消化器） | E47: 松田 諭 | F47: 早期胃癌に対するセンチネルリンパ節を指標としたリンパ節転移診断と個別化手術の有用性に関する臨床試験 | G47: 46202 | H47: 継続審査（再審査） | I47: 46211 | J47: =IFERROR(VLOOKUP(LEFT($C47, 2), [1]マスタ!$A$1:$B$10, 2, FALSE), "") -> 3
B48: N20230003_定期260522 | C48: 定期報告 | D48: 感染症学 | E48: 南宮 湖 | F48: 糖尿病・血液透析患者を対象とした帯状疱疹ワクチンの免疫学的検討 | G48: 46202 | H48: 承認 | I48: 46203 | J48: =IFERROR(VLOOKUP(LEFT($C48, 2), [1]マスタ!$A$1:$B$10, 2, FALSE), "") -> 3
... B67: N20120168_定期260522再2 | C67: 定期報告 （再審査） | D67: 外科学（一般・消化器） | E67: 松田 諭 | F67: 早期胃癌に対するセンチネルリンパ節を指標としたリンパ節転移診断と個別化手術の有用性に関する臨床試験 | G67: 46290 | H67: 承認 （簡便な審査） | I67: 46290 | J67: =IFERROR(VLOOKUP(LEFT($C67, 2), [1]マスタ!$A$1:$B$10, 2, FALSE), "") -> 3
